BEGIN:VCALENDAR
VERSION:2.0
PRODID:-//Tukios.com/
BEGIN:VEVENT
UID:82421069-4728-4f04-ab8f-4896a2dead12@www.lawrencefuneral.net
DTSTAMP:20260420T164150Z
DTSTART:20260422T210000Z
DTEND:20260423T010000Z
SUMMARY:Visitation
DESCRIPTION:
URL:https://www.lawrencefuneral.net/obituaries/debbie-fly
LOCATION:Lawrence Funeral Home 203 S Horton Pkwy  Chapel Hill TN 37034
GEO:35.6245764;-86.6942325
END:VEVENT
END:VCALENDAR