BEGIN:VCALENDAR
VERSION:2.0
PRODID:-//Tukios.com/
BEGIN:VEVENT
UID:48b419fb-0934-4b85-9240-9ca093858bd9@www.lawrencefuneral.net
DTSTAMP:20260420T164853Z
DTSTART:20260423T180000Z
DTEND:20260423T183000Z
SUMMARY:Memorial Service
DESCRIPTION:
URL:https://www.lawrencefuneral.net/obituaries/debbie-fly
LOCATION: 203 S Horton Pkwy  Chapel Hill TN 37034
GEO:35.6245764;-86.6942325
END:VEVENT
END:VCALENDAR