BEGIN:VCALENDAR
VERSION:2.0
PRODID:-//Tukios.com/
BEGIN:VEVENT
UID:4833d650-a985-4927-9fac-d80f1a8fd8ea@www.lawrencefuneral.net
DTSTAMP:20260422T222114Z
DTSTART:20260425T180000Z
DTEND:20260425T190000Z
SUMMARY:Funeral Service
DESCRIPTION:
URL:https://www.lawrencefuneral.net/obituaries/terry-douglas
LOCATION: 203 S Horton Pkwy  Chapel Hill TN 37034
GEO:35.6245764;-86.6942325
END:VEVENT
END:VCALENDAR