BEGIN:VCALENDAR
VERSION:2.0
PRODID:-//Tukios.com/
BEGIN:VEVENT
UID:ddb2dcfe-7eb9-4383-abd3-85618c7c630c@www.lawrencefuneral.net
DTSTAMP:20260422T091855Z
DTSTART:20260304T180000Z
DTEND:20260304T190000Z
SUMMARY:Graveside Service
DESCRIPTION:
URL:https://www.lawrencefuneral.net/obituaries/virginia-joyce
LOCATION:Cromer-Blackwell-Joyce Cemetery Blackwell Road  Chapel Hill TN 
	37034
GEO:35.6699598;-86.693758
END:VEVENT
END:VCALENDAR